BEGIN:VCALENDAR
VERSION:2.0
PRODID:http://www.opderschmelz.lu
X-WR-TIMEZONE:Europe/paris
BEGIN:VEVENT
DTSTART:20211215T170000
SUMMARY:Ritter Rost feiert Weihnachten (verlegt)
LOCATION:CENTRE CULTUREL RÉGIONAL DUDELANGE OPDERSCHMELZ
END:VEVENT
END:VCALENDAR