BEGIN:VCALENDAR
VERSION:2.0
PRODID:http://www.opderschmelz.lu
X-WR-TIMEZONE:Europe/paris
BEGIN:VEVENT
DTSTART:20201116T200000
SUMMARY:Amadeus
LOCATION:CENTRE CULTUREL RÉGIONAL DUDELANGE OPDERSCHMELZ
END:VEVENT
END:VCALENDAR