BEGIN:VCALENDAR
VERSION:2.0
PRODID:http://www.opderschmelz.lu
X-WR-TIMEZONE:Europe/paris
BEGIN:VEVENT
DTSTART:20211020T200000
SUMMARY:Criss Cross Europe 2020 / Jim Black
LOCATION:CENTRE CULTUREL RÉGIONAL DUDELANGE OPDERSCHMELZ
END:VEVENT
END:VCALENDAR